BEGIN:VCALENDAR
PRODID:-//eluceo/ical//2.0/EN
VERSION:2.0
CALSCALE:GREGORIAN
BEGIN:VEVENT
UID:4e88a7f93c886806376fa4a79b276b11
DTSTAMP:20260423T083612Z
SUMMARY:Mändli\, 2059 m
URL:https://www.sac-pilatus.ch/touren-detailansicht/event-13809.html
DTSTART;VALUE=DATE:20240120
LOCATION:
END:VEVENT
END:VCALENDAR
