BEGIN:VCALENDAR
PRODID:-//eluceo/ical//2.0/EN
VERSION:2.0
CALSCALE:GREGORIAN
BEGIN:VEVENT
UID:94e4f65a428f79ad9784d972507c8dd1
DTSTAMP:20260425T110554Z
SUMMARY:Zwächten
URL:https://www.sac-pilatus.ch/touren-detailansicht/event-13730.html
DTSTART;VALUE=DATE:20240421
LOCATION:
END:VEVENT
END:VCALENDAR
