BEGIN:VCALENDAR
PRODID:-//eluceo/ical//2.0/EN
VERSION:2.0
CALSCALE:GREGORIAN
BEGIN:VEVENT
UID:40a6a650ebbb3eed7d0dcd119dafd6a2
DTSTAMP:20260421T091415Z
SUMMARY:Hochtour Clariden
URL:https://www.sac-pilatus.ch/touren-detailansicht/event-13584.html
DTSTART;VALUE=DATE:20240704
LOCATION:Urnerboden - Clariden - Klausenpass
END:VEVENT
BEGIN:VEVENT
UID:7061fd98e50bb110a73a97bb9c6ea843
DTSTAMP:20260421T091415Z
SUMMARY:Hochtour Clariden
URL:https://www.sac-pilatus.ch/touren-detailansicht/event-13584.html
DTSTART;VALUE=DATE:20240705
LOCATION:Urnerboden - Clariden - Klausenpass
END:VEVENT
END:VCALENDAR
