BEGIN:VCALENDAR
PRODID:-//eluceo/ical//2.0/EN
VERSION:2.0
CALSCALE:GREGORIAN
BEGIN:VEVENT
UID:bef79736ed481f5e9c27433cad4b1833
DTSTAMP:20260421T120906Z
SUMMARY:Skitouren Maighelshütte
URL:https://www.sac-pilatus.ch/touren-detailansicht/event-13574.html
DTSTART;VALUE=DATE:20240314
LOCATION:Maighelshütte
END:VEVENT
BEGIN:VEVENT
UID:c5bf4c762a99db223cb6468e89bcbe12
DTSTAMP:20260421T120906Z
SUMMARY:Skitouren Maighelshütte
URL:https://www.sac-pilatus.ch/touren-detailansicht/event-13574.html
DTSTART;VALUE=DATE:20240315
LOCATION:Maighelshütte
END:VEVENT
BEGIN:VEVENT
UID:ccd1191aeeed91c2557431bc66d85383
DTSTAMP:20260421T120906Z
SUMMARY:Skitouren Maighelshütte
URL:https://www.sac-pilatus.ch/touren-detailansicht/event-13574.html
DTSTART;VALUE=DATE:20240316
LOCATION:Maighelshütte
END:VEVENT
END:VCALENDAR
