BEGIN:VCALENDAR
PRODID:-//eluceo/ical//2.0/EN
VERSION:2.0
CALSCALE:GREGORIAN
BEGIN:VEVENT
UID:de4d222e461e0514b898f0fd8902db54
DTSTAMP:20260420T094613Z
SUMMARY:3 Tage Klettern im Wiwannigebiet
URL:https://www.sac-pilatus.ch/touren-detailansicht/event-13534.html
DTSTART;VALUE=DATE:20240928
LOCATION:Wiwannihütte
END:VEVENT
BEGIN:VEVENT
UID:45af0d898b4f91561addef418682ef1c
DTSTAMP:20260420T094613Z
SUMMARY:3 Tage Klettern im Wiwannigebiet
URL:https://www.sac-pilatus.ch/touren-detailansicht/event-13534.html
DTSTART;VALUE=DATE:20240929
LOCATION:Wiwannihütte
END:VEVENT
BEGIN:VEVENT
UID:754ef35e0c4f62c4c2aa126f018f19f6
DTSTAMP:20260420T094613Z
SUMMARY:3 Tage Klettern im Wiwannigebiet
URL:https://www.sac-pilatus.ch/touren-detailansicht/event-13534.html
DTSTART;VALUE=DATE:20240930
LOCATION:Wiwannihütte
END:VEVENT
END:VCALENDAR
