BEGIN:VCALENDAR
PRODID:-//eluceo/ical//2.0/EN
VERSION:2.0
CALSCALE:GREGORIAN
BEGIN:VEVENT
UID:80cc5118dbf000867e361a6df3f469fe
DTSTAMP:20260419T131323Z
SUMMARY:Skitour Mändli
URL:https://www.sac-pilatus.ch/touren-detailansicht/event-13454.html
DTSTART;VALUE=DATE:20240201
LOCATION:
END:VEVENT
END:VCALENDAR
