BEGIN:VCALENDAR
PRODID:-//eluceo/ical//2.0/EN
VERSION:2.0
CALSCALE:GREGORIAN
BEGIN:VEVENT
UID:1df2fb63907d930e9e221237c88b6f86
DTSTAMP:20260422T084949Z
SUMMARY:Schneeschuhtour Erzegg-Tannalp\, Melchsee-Frutt
URL:https://www.sac-pilatus.ch/touren-detailansicht/event-13452.html
DTSTART;VALUE=DATE:20240126
LOCATION:
END:VEVENT
END:VCALENDAR
