BEGIN:VCALENDAR
PRODID:-//eluceo/ical//2.0/EN
VERSION:2.0
CALSCALE:GREGORIAN
BEGIN:VEVENT
UID:318ac449405233555706e20f4c51a226
DTSTAMP:20260422T084347Z
SUMMARY:Hallenklettern Sonntagabend
URL:https://www.sac-pilatus.ch/touren-detailansicht/event-13367.html
DTSTART;VALUE=DATE:20241013
LOCATION:Kletterhalle Pilatus Indoor\, Root D4
END:VEVENT
END:VCALENDAR
