BEGIN:VCALENDAR
PRODID:-//eluceo/ical//2.0/EN
VERSION:2.0
CALSCALE:GREGORIAN
BEGIN:VEVENT
UID:858f0923d38916ac11869acc1ecd7846
DTSTAMP:20260420T091601Z
SUMMARY:Skitechnik Tiefschnee
URL:https://www.sac-pilatus.ch/kurs-detail/event-12558.html
DTSTART;VALUE=DATE:20240210
LOCATION:Engelberg
END:VEVENT
END:VCALENDAR
