BEGIN:VCALENDAR
PRODID:-//eluceo/ical//2.0/EN
VERSION:2.0
CALSCALE:GREGORIAN
BEGIN:VEVENT
UID:0cf06620af4e03c577aa4b4c3477dd35
DTSTAMP:20260422T084955Z
SUMMARY:Skitechnik und Tiefschneefahren
URL:https://www.sac-pilatus.ch/kurs-detail/event-1251.html
DTSTART;VALUE=DATE:20180120
LOCATION:Engelberg Titlis
END:VEVENT
END:VCALENDAR
