BEGIN:VCALENDAR
PRODID:-//eluceo/ical//2.0/EN
VERSION:2.0
CALSCALE:GREGORIAN
BEGIN:VEVENT
UID:cc355a5044cb865eb30ccc53614fd905
DTSTAMP:20260421T091317Z
SUMMARY:Schneeschuhtour: Zweitagestour Peterslücke - Glattgrat
URL:https://www.sac-pilatus.ch/touren-detailansicht/event-11428.html
DTSTART;VALUE=DATE:20230223
LOCATION:Brisengebiet
END:VEVENT
BEGIN:VEVENT
UID:fe0997c5992416d0bf0593ebb6996c78
DTSTAMP:20260421T091317Z
SUMMARY:Schneeschuhtour: Zweitagestour Peterslücke - Glattgrat
URL:https://www.sac-pilatus.ch/touren-detailansicht/event-11428.html
DTSTART;VALUE=DATE:20230224
LOCATION:Brisengebiet
END:VEVENT
END:VCALENDAR
