BEGIN:VCALENDAR
PRODID:-//eluceo/ical//2.0/EN
VERSION:2.0
CALSCALE:GREGORIAN
BEGIN:VEVENT
UID:6b30b4585263755643e644b627108ef2
DTSTAMP:20260421T085349Z
SUMMARY:Trainingsgestaltung 2
URL:https://www.sac-pilatus.ch/kurs-detail/event-10504.html
DTSTART;VALUE=DATE:20231126
LOCATION:Kletterhalle Pilatus Indoor\, Root D4
END:VEVENT
BEGIN:VEVENT
UID:b19a730333f6347d578f4a0de1749fa2
DTSTAMP:20260421T085349Z
SUMMARY:Trainingsgestaltung 2
URL:https://www.sac-pilatus.ch/kurs-detail/event-10504.html
DTSTART;VALUE=DATE:20231203
LOCATION:Kletterhalle Pilatus Indoor\, Root D4
END:VEVENT
END:VCALENDAR
