BEGIN:VCALENDAR
PRODID:-//eluceo/ical//2.0/EN
VERSION:2.0
CALSCALE:GREGORIAN
BEGIN:VEVENT
UID:75b004f51e001744cce7212e712789a7
DTSTAMP:20260420T094413Z
SUMMARY:Niederrickenbach - Brisen - Haldi - Niederrickenbach
URL:https://www.sac-pilatus.ch/touren-detailansicht/event-10239.html
DTSTART;VALUE=DATE:20220829
LOCATION:
END:VEVENT
BEGIN:VEVENT
UID:9005a68072575c65d5326b79869d884b
DTSTAMP:20260420T094413Z
SUMMARY:Niederrickenbach - Brisen - Haldi - Niederrickenbach
URL:https://www.sac-pilatus.ch/touren-detailansicht/event-10239.html
DTSTART;VALUE=DATE:20220830
LOCATION:
END:VEVENT
BEGIN:VEVENT
UID:ee7fdd390e6dd029942dca5073459df0
DTSTAMP:20260420T094413Z
SUMMARY:Niederrickenbach - Brisen - Haldi - Niederrickenbach
URL:https://www.sac-pilatus.ch/touren-detailansicht/event-10239.html
DTSTART;VALUE=DATE:20220831
LOCATION:
END:VEVENT
BEGIN:VEVENT
UID:bc421c0a1849a137995a658582fa9e49
DTSTAMP:20260420T094413Z
SUMMARY:Niederrickenbach - Brisen - Haldi - Niederrickenbach
URL:https://www.sac-pilatus.ch/touren-detailansicht/event-10239.html
DTSTART;VALUE=DATE:20220901
LOCATION:
END:VEVENT
BEGIN:VEVENT
UID:798d9599e0275566fcecbede4b13fd7a
DTSTAMP:20260420T094413Z
SUMMARY:Niederrickenbach - Brisen - Haldi - Niederrickenbach
URL:https://www.sac-pilatus.ch/touren-detailansicht/event-10239.html
DTSTART;VALUE=DATE:20220902
LOCATION:
END:VEVENT
BEGIN:VEVENT
UID:4347fe6660ef8102579194db4fd75f5e
DTSTAMP:20260420T094413Z
SUMMARY:Niederrickenbach - Brisen - Haldi - Niederrickenbach
URL:https://www.sac-pilatus.ch/touren-detailansicht/event-10239.html
DTSTART;VALUE=DATE:20220903
LOCATION:
END:VEVENT
BEGIN:VEVENT
UID:3561f357869c71227900565f115a89b3
DTSTAMP:20260420T094413Z
SUMMARY:Niederrickenbach - Brisen - Haldi - Niederrickenbach
URL:https://www.sac-pilatus.ch/touren-detailansicht/event-10239.html
DTSTART;VALUE=DATE:20220904
LOCATION:
END:VEVENT
END:VCALENDAR
